Workbook
Name _bdf337: #REF!

Sheet RECURSOS CG 04.2021
B6: Associação Cultural de Apoio ao Museu Casa de Portinari - Organização Social de Cultura
B7: Demonstrativo dos Saldos de Recursos Disponíveis vinculados ao Contrato de Gestão n.º 04/2021
B8: Data Base: 31/12/2023
I10: =I19 -> Janeiro | J10: =J19 -> Fevereiro | K10: =K19 -> Março | L10: =L19 -> Abril | M10: =M19 -> Maio | N10: =N19 -> Junho | O10: =O19 -> Julho | P10: =P19 -> Agosto | ... T10: =T19 -> Dezembro
B11: Recursos Disponíveis ( - ) Fundos de Reserva e Contingência ( 1 ) | I11: =I26+I35-SUM(I30:I31)+I44-SUM(I39:I40) -> 6833937.2 | J11: =J26+J35-SUM(J30:J31)+J44-SUM(J39:J40) -> 7033517.3 | K11: =K26+K35-SUM(K30:K31)+K44-SUM(K39:K40) -> 7271399.5 | L11: =L26+L35-SUM(L30:L31)+L44-SUM(L39:L40) -> 7589813.4 | M11: =M26+M35-SUM(M30:M31)+M44-SUM(M39:M40) -> 6709530.2 | N11: =N26+N35-SUM(N30:N31)+N44-SUM(N39:N40) -> 6462797 | O11: =O26+O35-SUM(O30:O31)+O44-SUM(O39:O40) -> 6375199.6 | P11: =P26+P35-SUM(P30:P31)+P44-SUM(P39:P40) -> 6304050.4 | ... T11: =T26+T35-SUM(T30:T31)+T44-SUM(T39:T40) -> 5641952.7
B13: Recursos Mantidos Fundos de Reversa e Contingência ( 2 ) | I13: =SUM(I30:I31)+SUM(I39:I40) -> 2682738.5 | J13: =SUM(J30:J31)+SUM(J39:J40) -> 2737307.2 | K13: =SUM(K30:K31)+SUM(K39:K40) -> 2784392.2 | L13: =SUM(L30:L31)+SUM(L39:L40) -> 2824561.9 | M13: =SUM(M30:M31)+SUM(M39:M40) -> 2851975.1 | N13: =SUM(N30:N31)+SUM(N39:N40) -> 2901316.1 | O13: =SUM(O30:O31)+SUM(O39:O40) -> 2950365.1 | P13: =SUM(P30:P31)+SUM(P39:P40) -> 3003926.5 | ... T13: =SUM(T30:T31)+SUM(T39:T40) -> 3166186.8
B15: Numerários em Trânsito ( 3 ) | I15: =I46 -> 0 | J15: =J46 -> 0 | K15: =K46 -> 0 | L15: =L46 -> 0 | M15: =M46 -> 0 | N15: =N46 -> 0 | O15: =O46 -> 0 | P15: =P46 -> 0 | ... T15: =T46 -> 0
B17: Total de Recursos ( 1 + 2 + 3 ) | I17: =I11+I13+I15 -> 9516675.6 | J17: =J11+J13+J15 -> 9770824.5 | K17: =K11+K13+K15 -> 10055792 | L17: =L11+L13+L15 -> 10414375 | M17: =M11+M13+M15 -> 9561505.3 | N17: =N11+N13+N15 -> 9364113.1 | O17: =O11+O13+O15 -> 9325564.8 | P17: =P11+P13+P15 -> 9307977 | ... T17: =T11+T13+T15 -> 8808139.4
B19: Recursos em Caixa | I19: Janeiro | J19: Fevereiro | K19: Março | L19: Abril | M19: Maio | N19: Junho | O19: Julho | P19: Agosto | Q19: Setembro | R19: Outubro | S19: Novembro | T19: Dezembro
B20: Caixa Sede (OS) | I20: 5622.97 | J20: 4432.84 | K20: 1680.58 | L20: 3517.05 | M20: 6728.62 | N20: 2160.74 | O20: 2895.41 | P20: 4524.27 | Q20: 1946.9 | R20: 5031.84 | S20: 851.69 | T20: 0
B21: Caixa Loja (MCP) | I21: 2589.38 | J21: 996.19 | K21: 946.6 | L21: 574.33 | M21: 463.23 | N21: 1640.53 | O21: 643.33 | P21: 765.15 | Q21: 426.47 | R21: 3065.67 | S21: 3411.42 | T21: 512.92
B22: Caixa PP/Sócios (MCP) | I22: 809 | J22: 959 | K22: 989 | L22: 144 | M22: 144 | N22: 186 | O22: 216 | P22: 228 | Q22: 328 | R22: 330 | S22: 379 | T22: 401
B23: Caixa Bilheteria (MFL) | I23: 852 | J23: 867 | K23: 1856 | L23: 4965 | M23: 6532.5 | N23: 4294.5 | O23: 6061 | P23: 3027 | Q23: 4239 | R23: 5300 | S23: 4107 | T23: 4907
B24: Caixa Bilheteria (MCI) | I24: 2640.5 | J24: 3158 | K24: 3960.5 | L24: 4875.5 | M24: 1305 | N24: 2332.5 | O24: 3157.5 | P24: 3832.5 | Q24: 4485 | R24: 5272.5 | S24: 6462.5 | T24: 637
B26: Total dos Recursos em Caixa | I26: =SUM(I20:I24) -> 12513.85 | J26: =SUM(J20:J24) -> 10413.03 | K26: =SUM(K20:K24) -> 9432.68 | L26: =SUM(L20:L24) -> 14075.88 | M26: =SUM(M20:M24) -> 15173.35 | N26: =SUM(N20:N24) -> 10614.27 | O26: =SUM(O20:O24) -> 12973.24 | P26: =SUM(P20:P24) -> 12376.92 | ... T26: =SUM(T20:T24) -> 6457.92
B27: Recursos em Conta Corrente | I27: =I19 -> Janeiro | J27: =J19 -> Fevereiro | K27: =K19 -> Março | L27: =L19 -> Abril | M27: =M19 -> Maio | N27: =N19 -> Junho | O27: =O19 -> Julho | P27: =P19 -> Agosto | ... T27: =T19 -> Dezembro
B28: BB / 351-4 / 40.807-7 (Diária) | I28: 1749693.3 | J28: 0 | K28: 0 | L28: 0 | M28: 0 | N28: 0 | O28: 0 | P28: 0 | Q28: 41748.77 | R28: 0 | S28: 0 | T28: 0
B29: BB / 351-4 / 40.808-5 (Captação) | I29: 8638.58 | J29: 13804.5 | K29: 18942.18 | L29: 27791.11 | M29: 32763.91 | N29: 6750.52 | O29: 15683.68 | P29: 33860.22 | Q29: 56734.7 | R29: 74628.46 | S29: 81099.76 | T29: 98683.97
B30: BB / 351-4 / 40.809-3 (Fundo de Contingência) | I30: 0 | J30: 0 | K30: 0 | L30: 0 | M30: 0 | N30: 0 | O30: 0 | P30: 0 | Q30: 0 | R30: 0 | S30: 0 | T30: 17583.37
B31: BB / 351-4 / 40.810-7 (Fundo de Reserva) | I31: 0 | J31: 0 | K31: 0 | L31: 0 | M31: 0 | N31: 0 | O31: 0 | P31: 0 | Q31: 0 | R31: 0 | S31: 0 | T31: 0
B32: BB / 351-4 / 40.811-5 (Loja) | I32: 28277.91 | J32: 5365.05 | K32: 5509.4 | L32: 11650.71 | M32: 20078.74 | N32: 2122.25 | O32: 5744.67 | P32: 11232.05 | Q32: 3913.14 | R32: 26279.29 | S32: 3891.16 | T32: 7510.61
B33: CEF / 2105-9 / 003.1346-4 (Bilheteria) | I33: 15759.47 | J33: 4272.36 | K33: 2208.73 | L33: 22991.58 | M33: 11808.34 | N33: 47109.52 | O33: 31301.57 | P33: 7867 | Q33: 1360.66 | R33: 5632.67 | S33: 34348.51 | T33: 4463.51
B35: Total dos Recursos em Conta Corrente | I35: =SUM(I28:I34) -> 1802369.3 | J35: =SUM(J28:J34) -> 23441.91 | K35: =SUM(K28:K34) -> 26660.31 | L35: =SUM(L28:L34) -> 62433.4 | M35: =SUM(M28:M34) -> 64650.99 | N35: =SUM(N28:N34) -> 55982.29 | O35: =SUM(O28:O34) -> 52729.92 | P35: =SUM(P28:P34) -> 52959.27 | ... T35: =SUM(T28:T34) -> 128241.46
B36: Recursos em Conta Aplicação | I36: =I27 -> Janeiro | J36: =J27 -> Fevereiro | K36: =K27 -> Março | L36: =L27 -> Abril | M36: =M27 -> Maio | N36: =N27 -> Junho | O36: =O27 -> Julho | P36: =P27 -> Agosto | ... T36: =T27 -> Dezembro
B37: =B28 -> BB / 351-4 / 40.807-7 (Diária) | I37: 3935387.8 | J37: 5809224.2 | K37: 6016742.5 | L37: 6285031.9 | M37: 5361505.8 | N37: 5068074 | O37: 5116451.5 | P37: 5195552.7 | Q37: 5096259.5 | R37: 5323420.3 | S37: 5287787.7 | T37: 4836939
B38: =B29 -> BB / 351-4 / 40.808-5 (Captação) | I38: 134219.66 | J38: 135438.83 | K38: 136984.13 | L38: 138186.33 | M38: 138470.66 | N38: 175014.38 | O38: 176831.62 | P38: 178820.1 | Q38: 180534.47 | R38: 182268.19 | S38: 182324.37 | T38: 183926.28
B39: =B30 -> BB / 351-4 / 40.809-3 (Fundo de Contingência) | I39: 1083079 | J39: 1126168.2 | K39: 1155931.8 | L39: 1182909.6 | M39: 1204839.2 | N39: 1235881.3 | O39: 1266891.3 | P39: 1299959.6 | Q39: 1330305.9 | R39: 1361329 | S39: 1379948.9 | T39: 1393156.4
B40: =B31 -> BB / 351-4 / 40.810-7 (Fundo de Reserva) | I40: 1599659.4 | J40: 1611139 | K40: 1628460.3 | L40: 1641652.3 | M40: 1647135.9 | N40: 1665434.8 | O40: 1683473.9 | P40: 1703967 | Q40: 1720665.2 | R40: 1738026.9 | S40: 1738805 | T40: 1755447
B41: =B32 -> BB / 351-4 / 40.811-5 (Loja) | I41: 9138.55 | J41: 33409.19 | K41: 31715.62 | L41: 31980.21 | M41: 32047.4 | N41: 45382.83 | O41: 45827.8 | P41: 46313.4 | Q41: 61751.01 | R41: 62307.99 | S41: 87411.45 | T41: 88130.6
B42: =B33 -> CEF / 2105-9 / 003.1346-4 (Bilheteria) | I42: 940308.05 | J42: 1021590.2 | K42: 1049864.3 | L42: 1058105.7 | M42: 1097682 | N42: 1107729.2 | O42: 970385.61 | P42: 818028.04 | Q42: 856297.49 | R42: 677882.92 | S42: 676507.9 | T42: 415840.81
B44: Total dos Recursos em Conta Aplicação | I44: =SUM(I37:I43) -> 7701792.5 | J44: =SUM(J37:J43) -> 9736969.6 | K44: =SUM(K37:K43) -> 10019699 | L44: =SUM(L37:L43) -> 10337866 | M44: =SUM(M37:M43) -> 9481681 | N44: =SUM(N37:N43) -> 9297516.5 | O44: =SUM(O37:O43) -> 9259861.6 | P44: =SUM(P37:P43) -> 9242640.8 | ... T44: =SUM(T37:T43) -> 8673440
B45: Recursos em Trânsito | I45: =I36 -> Janeiro | J45: =J36 -> Fevereiro | K45: =K36 -> Março | L45: =L36 -> Abril | M45: =M36 -> Maio | N45: =N36 -> Junho | O45: =O36 -> Julho | P45: =P36 -> Agosto | ... T45: =T36 -> Dezembro
B46: Numerários em Trânsito | I46: 0 | J46: 0 | K46: 0 | L46: 0 | M46: 0 | N46: 0 | O46: 0 | P46: 0 | Q46: 0 | R46: 0 | S46: 0 | T46: 0
B48: % de Recursos Disponíveis (Exceto os Fundos) | I48: =(I11+I15)/I17 -> 0.7181013 | J48: =(J11+J15)/J17 -> 0.71984891 | K48: =(K11+K15)/K17 -> 0.72310562 | L48: =(L11+L15)/L17 -> 0.72878239 | M48: =(M11+M15)/M17 -> 0.70172321 | N48: =(N11+N15)/N17 -> 0.69016649 | O48: =(O11+O15)/O17 -> 0.68362612 | P48: =(P11+P15)/P17 -> 0.67727396 | ... T48: =(T11+T15)/T17 -> 0.64053853
B49: % Fundo de Reserva | I49: =(I31+I40)/I17 -> 0.16809015 | J49: =(J31+J40)/J17 -> 0.16489284 | K49: =(K31+K40)/K17 -> 0.16194253 | L49: =(L31+L40)/L17 -> 0.1576333 | M49: =(M31+M40)/M17 -> 0.17226742 | N49: =(N31+N40)/N17 -> 0.17785291 | O49: =(O31+O40)/O17 -> 0.18052246 | P49: =(P31+P40)/P17 -> 0.18306523 | ... T49: =(T31+T40)/T17 -> 0.19929828
B50: % Fundo de Contingência | I50: =(I30+I39)/I17 -> 0.11380855 | J50: =(J30+J39)/J17 -> 0.11525825 | K50: =(K30+K39)/K17 -> 0.11495185 | L50: =(L30+L39)/L17 -> 0.11358431 | M50: =(M30+M39)/M17 -> 0.12600937 | N50: =(N30+N39)/N17 -> 0.1319806 | O50: =(O30+O39)/O17 -> 0.13585142 | P50: =(P30+P39)/P17 -> 0.13966081 | ... T50: =(T30+T39)/T17 -> 0.16016319
B51: Total | I51: =SUM(I48:I50) -> 1 | J51: =SUM(J48:J50) -> 1 | K51: =SUM(K48:K50) -> 1 | L51: =SUM(L48:L50) -> 1 | M51: =SUM(M48:M50) -> 1 | N51: =SUM(N48:N50) -> 1 | O51: =SUM(O48:O50) -> 1 | P51: =SUM(P48:P50) -> 1 | ... T51: =SUM(T48:T50) -> 1
B52: * Numerários em Trânsito: representam valores que estão em poder da empresa de transporte de valores e que serão depositados em conta corrente bancária da Organização Social.

Sheet  GRÁFICO CG 04.2021
B7: ='RECURSOS CG 04.2021'!B6:J6 -> Associação Cultural de Apoio ao Museu Casa de Portinari - Organização Social de Cultura
B8: Contrato de Gestão n.º 04/2021
B9: Gráfico de Recursos Disponíveis por natureza de Contas
B10: ='RECURSOS CG 04.2021'!B8:D8 -> Data Base: 31/12/2023
B12: Recursos Disponíveis (Contas Livre Movimentação e Numerários em Trânsito) | I12: ='RECURSOS CG 04.2021'!T11 -> 5641952.7 | L12: =I12/$I$15 -> 0.64053853
B13: Recursos Disponíveis (Contas Fundos de Reserva e de Contingência) | I13: ='RECURSOS CG 04.2021'!T13 -> 3166186.8 | L13: =I13/$I$15 -> 0.35946147
B15: Total de Recursos | I15: =SUM(I12:I13) -> 8808139.4 | L15: =SUM(L12:L13) -> 1
B34: Gráfico de Recursos Disponíveis Segregados por Tipo de Contas
B35: =B10 -> Data Base: 31/12/2023
B37: Recursos mantidos em Caixas | I37: ='RECURSOS CG 04.2021'!T26 -> 6457.92 | K37: 1 | L37: =I37/$I$43 -> 0.00073317641
B38: Recursos mantidos em Contas Correntes - Livre movimentação | I38: =SUM('RECURSOS CG 04.2021'!T28:T29)+SUM('RECURSOS CG 04.2021'!T32:T33) -> 110658.09 | K38: 2 | L38: =I38/$I$43 -> 0.012563163
B39: Recursos mantidos em Contas Correntes - Fundos Reserva e Contingência | I39: =SUM('RECURSOS CG 04.2021'!T30:T31) -> 17583.37 | K39: 3 | L39: =I39/$I$43 -> 0.0019962638
B40: Recursos mantidos em Contas Aplicações - Livre movimentação | I40: =SUM('RECURSOS CG 04.2021'!T37:T38)+SUM('RECURSOS CG 04.2021'!T41:T42) -> 5524836.6 | K40: 4 | L40: =I40/$I$43 -> 0.62724219
B41: Recursos mantidos em Contas Aplicações - Fundos Reserva e Contingência | I41: =SUM('RECURSOS CG 04.2021'!T39:T40) -> 3148603.4 | K41: 5 | L41: =I41/$I$43 -> 0.35746521
B42: Recursos mantidos em Poder da empresa de Transporte de Valores | I42: ='RECURSOS CG 04.2021'!T46 -> 0 | K42: 6 | L42: =I42/$I$43 -> 0
B43: Total | I43: =SUM(I37:J42) -> 8808139.4 | L43: =SUM(L37:L42) -> 1
